Uber Exif Photo
Make : NIKON CORPORATION
Camera Model Name : NIKON D90
Software : Adobe Photoshop Lightroom 3.4.1
Modify Date : 2011:07:10 16:30:04
Exposure Time : 1/2500
F Number : 4.5
Exposure Program : Aperture-priority AE
ISO : 200
Date/Time Original : 2011:07:01 18:12:32
Create Date : 2011:07:01 18:12:32
Shutter Speed Value : 1/2500
Aperture Value : 4.5
Exposure Compensation : 0
Max Aperture Value : 4.4
Subject Distance : 2.66 m
Metering Mode : Multi-segment
Light Source : Unknown
Flash : No Flash
Focal Length : 70.0 mm
User Comment : Copyright 2011 Jose Santos
Sensing Method : One-chip color area
Scene Type : Directly photographed
CFA Pattern : [Green,Blue][Red,Green]
Custom Rendered : Normal
Exposure Mode : Auto
White Balance : Auto
Digital Zoom Ratio : 1
Focal Length In 35mm Format : 105 mm
Scene Capture Type : Standard
Gain Control : None
Contrast : Normal
Saturation : High
Sharpness : Normal
Subject Distance Range : Unknown
Serial Number : 6529149
Lens Info : 70-300mm f/4.5-5.6
Lens Model : 70.0-300.0 mm f/4.5-5.6
Creator Tool : Adobe Photoshop Lightroom 3.4.1
Lens : 70.0-300.0 mm f/4.5-5.6
Image Number : 4153
Approximate Focus Distance : 2.66
Date Created : 2011:07:01 18:12:32.00
Version : 6.4.1
Process Version : 5.7
Color Temperature : 5550
Tint : +2
Exposure : -0.16
Shadows : 56
Brightness : +37
Luminance Smoothing : 0
Color Noise Reduction : 25
Chromatic Aberration R : 0
Chromatic Aberration B : 0
Vignette Amount : 0
Shadow Tint : 0
Red Hue : 0
Red Saturation : 0
Green Hue : 0
Green Saturation : 0
Blue Hue : 0
Blue Saturation : 0
Fill Light : 36
Highlight Recovery : 0
Clarity : 0
Defringe : 0
Gray Mixer Red : -9
Gray Mixer Orange : -19
Gray Mixer Yellow : -23
Gray Mixer Green : -27
Gray Mixer Aqua : -18
Gray Mixer Blue : +11
Gray Mixer Purple : +17
Gray Mixer Magenta : +4
Split Toning Shadow Hue : 0
Split Toning Shadow Saturation : 0
Split Toning Highlight Hue : 0
Split Toning Highlight Saturation : 0
Split Toning Balance : 0
Parametric Shadows : +68
Parametric Darks : 0
Parametric Lights : 0
Parametric Highlights : 0
Parametric Shadow Split : 25
Parametric Midtone Split : 50
Parametric Highlight Split : 75
Sharpen Radius : +1.0
Sharpen Detail : 25
Sharpen Edge Masking : 0
Post Crop Vignette Amount : 0
Grain Amount : 0
Color Noise Reduction Detail : 50
Lens Profile Enable : 0
Lens Manual Distortion Amount : 0
Perspective Vertical : 0
Perspective Horizontal : 0
Perspective Rotate : 0.0
Perspective Scale : 100
Convert To Grayscale : True
Tone Curve Name : Strong Contrast
Camera Profile : Adobe Standard
Lens Profile Setup : LensDefaults
Has Settings : True
Crop Top : 0.018453
Crop Left : 0.02998
Crop Bottom : 0.981163
Crop Right : 0.98982
Crop Angle : -0.738
Crop Constrain To Warp : 0
Crop Width : 4080
Crop Height : 2794
Crop Unit : pixels
Has Crop : True
Already Applied : True
Tone Curve : 0, 0, 32, 16, 64, 50, 128, 128, 192, 202, 255, 255
Image Width : 300
Image Height : 206
Bits Per Sample : 8
Color Components : 1
Aperture : 4.5
Image Size : 300x206
Megapixels : 0.062
Scale Factor To 35 mm Equivalent : 1.5
Shutter Speed : 1/2500
Create Date : 2011:07:01 18:12:32.00
Date/Time Original : 2011:07:01 18:12:32.00
Circle Of Confusion : 0.020 mm
Depth Of Field : 0.25 m (2.54 - 2.79 m)
Field Of View : 19.5 deg
Focal Length : 70.0 mm (35 mm equivalent: 105.0 mm)
Hyperfocal Distance : 54.36 m
Light Value : 14.6
Lens ID : AF-S VR Zoom-Nikkor 70-300mm f/4.5-5.6G IF-ED