Uber Exif Photo
By-line : STUARTWEBER
Copyright Notice : SW
Make : NIKON CORPORATION
Camera Model Name : NIKON D700
Software : Adobe Photoshop Lightroom 3.4.1
Modify Date : 2012:03:05 23:11:34
Artist : STUARTWEBER
Copyright : SW
Exposure Time : 1/15
F Number : 1.4
Exposure Program : Aperture-priority AE
ISO : 1000
Date/Time Original : 2012:03:05 22:32:27
Create Date : 2012:03:05 22:32:27
Shutter Speed Value : 1/15
Aperture Value : 1.4
Exposure Compensation : +1/3
Max Aperture Value : 1.4
Subject Distance : 1.33 m
Metering Mode : Spot
Light Source : Cloudy
Flash : On, Return not detected
Focal Length : 85.0 mm
Sensing Method : One-chip color area
Scene Type : Directly photographed
CFA Pattern : [Red,Green][Green,Blue]
Custom Rendered : Custom
Exposure Mode : Auto
White Balance : Manual
Digital Zoom Ratio : 1
Focal Length In 35mm Format : 85 mm
Scene Capture Type : Standard
Gain Control : High gain up
Contrast : Normal
Saturation : Normal
Sharpness : Normal
Subject Distance Range : Unknown
Serial Number : 2456487
Lens Info : 85mm f/1.4
Lens Model : 85.0 mm f/1.4
GPS Version ID : 2.2.0.0
GPS Latitude Ref : North
GPS Longitude Ref : East
GPS Altitude Ref : Above Sea Level
GPS Time Stamp : 18:02:28
GPS Satellites : 09
GPS Map Datum : WGS 84
GPS Date Stamp : 2012:03:05
Profile Description : sRGB IEC61966-2.1
Creator Tool : Adobe Photoshop Lightroom 3.4.1
Lens : 85.0 mm f/1.4
Image Number : 8124
Approximate Focus Distance : 1.33
Date Created : 2012:03:05 22:32:27.75
Version : 6.4.1
Process Version : 5.7
Color Temperature : 5550
Tint : -7
Exposure : -1.02
Shadows : 17
Brightness : +19
Luminance Smoothing : 6
Color Noise Reduction : 25
Chromatic Aberration R : 0
Chromatic Aberration B : 0
Vignette Amount : 0
Shadow Tint : 0
Red Hue : 0
Red Saturation : 0
Green Hue : 0
Green Saturation : 0
Blue Hue : 0
Blue Saturation : 0
Fill Light : 0
Vibrance : +22
Highlight Recovery : 31
Clarity : +64
Defringe : 0
Hue Adjustment Red : 0
Hue Adjustment Orange : 0
Hue Adjustment Yellow : 0
Hue Adjustment Green : 0
Hue Adjustment Aqua : 0
Hue Adjustment Blue : 0
Hue Adjustment Purple : 0
Hue Adjustment Magenta : 0
Saturation Adjustment Red : 0
Saturation Adjustment Orange : 0
Saturation Adjustment Yellow : 0
Saturation Adjustment Green : 0
Saturation Adjustment Aqua : 0
Saturation Adjustment Blue : 0
Saturation Adjustment Purple : 0
Saturation Adjustment Magenta : 0
Luminance Adjustment Red : 0
Luminance Adjustment Orange : 0
Luminance Adjustment Yellow : 0
Luminance Adjustment Green : 0
Luminance Adjustment Aqua : 0
Luminance Adjustment Blue : 0
Luminance Adjustment Purple : 0
Luminance Adjustment Magenta : 0
Split Toning Shadow Hue : 0
Split Toning Shadow Saturation : 0
Split Toning Highlight Hue : 0
Split Toning Highlight Saturation : 0
Split Toning Balance : 0
Parametric Shadows : 0
Parametric Darks : 0
Parametric Lights : 0
Parametric Highlights : 0
Parametric Shadow Split : 25
Parametric Midtone Split : 50
Parametric Highlight Split : 75
Sharpen Radius : +1.0
Sharpen Detail : 25
Sharpen Edge Masking : 0
Post Crop Vignette Amount : -49
Post Crop Vignette Midpoint : 50
Post Crop Vignette Feather : 50
Post Crop Vignette Roundness : 0
Post Crop Vignette Style : Highlight Priority
Post Crop Vignette Highlight Contrast : 0
Grain Amount : 0
Luminance Noise Reduction Detail : 50
Color Noise Reduction Detail : 50
Luminance Noise Reduction Contrast : 0
Lens Profile Enable : 0
Lens Manual Distortion Amount : 0
Perspective Vertical : 0
Perspective Horizontal : 0
Perspective Rotate : 0.0
Perspective Scale : 100
Convert To Grayscale : False
Tone Curve Name : Medium Contrast
Camera Profile : Adobe Standard
Lens Profile Setup : LensDefaults
Has Settings : True
Crop Top : 0
Crop Left : 0.100175
Crop Bottom : 1
Crop Right : 0.931941
Crop Angle : 0
Crop Constrain To Warp : 0
Crop Width : 675
Crop Height : 540
Crop Unit : pixels
Has Crop : True
Already Applied : True
Creator : STUARTWEBER
Rights : SW
Tone Curve : 0, 0, 32, 22, 64, 56, 128, 128, 192, 196, 255, 255
Image Width : 300
Image Height : 240
Bits Per Sample : 8
Color Components : 3
Aperture : 1.4
Image Size : 300x240
Megapixels : 0.072
Scale Factor To 35 mm Equivalent : 1.0
Shutter Speed : 1/15
Create Date : 2012:03:05 22:32:27.75
Date/Time Original : 2012:03:05 22:32:27.75
GPS Altitude : 265 m Above Sea Level
GPS Date/Time : 2012:03:05 18:02:28Z
GPS Latitude : 35 deg 19' 46.30" N
GPS Longitude : 44 deg 19' 21.35" E
Circle Of Confusion : 0.030 mm
Depth Of Field : 0.019 m (1.320 - 1.340 m)
Field Of View : 23.9 deg
Focal Length : 85.0 mm (35 mm equivalent: 85.0 mm)
GPS Position : 35 deg 19' 46.30" N, 44 deg 19' 21.35" E
Hyperfocal Distance : 171.76 m
Light Value : 1.6
Lens ID : Samyang AE 85mm f/1.4 AS IF UMC or AF Nikkor 85mm f/1.4D IF