Uber Exif Photo
By-line : Bjorn Olsson
Copyright Notice : Bjorn Olsson
Make : NIKON CORPORATION
Camera Model Name : NIKON D7000
Orientation : Horizontal (normal)
Software : Adobe Photoshop CS5 Windows
Modify Date : 2012:03:17 20:22:41
Artist : Bjorn Olsson
Copyright : Bjorn Olsson
Exposure Time : 1/8000
F Number : 9.0
Exposure Program : Aperture-priority AE
ISO : 400
Sensitivity Type : Recommended Exposure Index
Date/Time Original : 2011:07:22 12:32:10
Create Date : 2011:07:22 12:32:10
Shutter Speed Value : 1/8000
Aperture Value : 9.0
Exposure Compensation : -2
Max Aperture Value : 2.8
Subject Distance : 4294967295 m
Metering Mode : Multi-segment
Light Source : Unknown
Flash : Off, Did not fire
Focal Length : 17.0 mm
Color Space : Uncalibrated
Exif Image Width : 1024
Exif Image Height : 678
Sensing Method : One-chip color area
Scene Type : Directly photographed
CFA Pattern : [Red,Green][Green,Blue]
Custom Rendered : Normal
Exposure Mode : Auto
White Balance : Auto
Digital Zoom Ratio : 1
Focal Length In 35mm Format : 25 mm
Scene Capture Type : Landscape
Gain Control : Low gain up
Contrast : Normal
Saturation : Normal
Sharpness : Hard
Subject Distance Range : Unknown
Serial Number : 6094041
Lens Info : 17-70mm f/2.8-4
Lens Model : 17.0-70.0 mm f/2.8-4.0
Profile Description : Adobe RGB (1998)
Format : image/jpeg
Creator Tool : Ver.1.02
Rating : 0
Lens : 17.0-70.0 mm f/2.8-4.0
Image Number : 10945
Approximate Focus Distance : 4294967295
Date Created : 2011:07:22 12:32:10.008
Color Mode : RGB
ICC Profile Name : Adobe RGB (1998)
Raw File Name : _BEO5504.NEF
Version : 6.4.1
Process Version : 5.7
Color Temperature : 5650
Tint : +15
Exposure : +0.75
Shadows : 6
Brightness : +59
Luminance Smoothing : 0
Color Noise Reduction : 25
Chromatic Aberration R : 0
Chromatic Aberration B : 0
Vignette Amount : 0
Shadow Tint : 0
Red Hue : 0
Red Saturation : 0
Green Hue : 0
Green Saturation : 0
Blue Hue : 0
Blue Saturation : 0
Fill Light : 0
Vibrance : 0
Highlight Recovery : 0
Clarity : +69
Defringe : 0
Hue Adjustment Red : +1
Hue Adjustment Orange : 0
Hue Adjustment Yellow : 0
Hue Adjustment Green : 0
Hue Adjustment Aqua : 0
Hue Adjustment Blue : 0
Hue Adjustment Purple : 0
Hue Adjustment Magenta : 0
Saturation Adjustment Red : 0
Saturation Adjustment Orange : 0
Saturation Adjustment Yellow : 0
Saturation Adjustment Green : 0
Saturation Adjustment Aqua : +52
Saturation Adjustment Blue : +64
Saturation Adjustment Purple : 0
Saturation Adjustment Magenta : 0
Luminance Adjustment Red : 0
Luminance Adjustment Orange : 0
Luminance Adjustment Yellow : 0
Luminance Adjustment Green : -1
Luminance Adjustment Aqua : +18
Luminance Adjustment Blue : -47
Luminance Adjustment Purple : 0
Luminance Adjustment Magenta : 0
Split Toning Shadow Hue : 0
Split Toning Shadow Saturation : 0
Split Toning Highlight Hue : 0
Split Toning Highlight Saturation : 0
Split Toning Balance : 0
Parametric Shadows : 0
Parametric Darks : 0
Parametric Lights : 0
Parametric Highlights : 0
Parametric Shadow Split : 25
Parametric Midtone Split : 50
Parametric Highlight Split : 75
Sharpen Radius : +1.0
Sharpen Detail : 25
Sharpen Edge Masking : 0
Post Crop Vignette Amount : 0
Grain Amount : 0
Color Noise Reduction Detail : 50
Lens Profile Enable : 0
Lens Manual Distortion Amount : 0
Perspective Vertical : 0
Perspective Horizontal : 0
Perspective Rotate : 0.0
Perspective Scale : 100
Convert To Grayscale : False
Tone Curve Name : Medium Contrast
Camera Profile : Adobe Standard
Lens Profile Setup : LensDefaults
Has Settings : True
Crop Top : 0
Crop Left : 0.002712
Crop Bottom : 1
Crop Right : 0.997288
Crop Angle : 0.143598
Crop Constrain To Warp : 1
Has Crop : True
Already Applied : True
Creator : Bjorn Olsson
Rights : Bjorn Olsson
Tone Curve : 0, 0, 32, 22, 64, 56, 128, 128, 192, 196, 255, 255
Image Width : 300
Image Height : 199
Bits Per Sample : 8
Color Components : 3
Aperture : 9.0
Image Size : 300x199
Megapixels : 0.060
Scale Factor To 35 mm Equivalent : 1.5
Shutter Speed : 1/8000
Create Date : 2011:07:22 12:32:10.80
Date/Time Original : 2011:07:22 12:32:10.80
Modify Date : 2012:03:17 20:22:41.80
Circle Of Confusion : 0.020 mm
Depth Of Field : inf (1.57 m - inf)
Field Of View : 71.5 deg
Focal Length : 17.0 mm (35 mm equivalent: 25.0 mm)
Hyperfocal Distance : 1.57 m
Light Value : 17.3
Lens ID : Sigma 17-70mm F2.8-4 DC Macro OS HSM