Uber Exif Photo
By-line : Bjorn Olsson, bjornsphoto@gmail.
Copyright Notice : Bjorn Olsson
Photometric Interpretation : RGB
Make : NIKON CORPORATION
Camera Model Name : NIKON D7000
Orientation : Horizontal (normal)
Samples Per Pixel : 3
Software : Adobe Photoshop CS5 Windows
Modify Date : 2012:03:21 20:04:11
Artist : Bjorn Olsson, bjornsphoto@gmail.com
Copyright : Bjorn Olsson
Exposure Time : 1/60
F Number : 16.0
Exposure Program : Manual
ISO : 400
Sensitivity Type : Recommended Exposure Index
Date/Time Original : 2012:03:21 17:16:57
Create Date : 2012:03:21 17:16:57
Shutter Speed Value : 1/60
Aperture Value : 16.0
Exposure Compensation : 0
Max Aperture Value : 2.8
Subject Distance : 4294967295 m
Metering Mode : Multi-segment
Light Source : Unknown
Flash : Off, Did not fire
Focal Length : 17.0 mm
User Comment : (c)Bjorn Olsson
Color Space : Uncalibrated
Exif Image Width : 1024
Exif Image Height : 678
Sensing Method : One-chip color area
Scene Type : Directly photographed
CFA Pattern : [Red,Green][Green,Blue]
Custom Rendered : Normal
Exposure Mode : Manual
White Balance : Auto
Digital Zoom Ratio : 1
Focal Length In 35mm Format : 25 mm
Scene Capture Type : Standard
Gain Control : Low gain up
Contrast : Normal
Saturation : Normal
Sharpness : Normal
Subject Distance Range : Unknown
Serial Number : 6275853
Lens Info : 17-70mm f/2.8-4
Lens Model : 17.0-70.0 mm f/2.8-4.0
Profile Description : ProPhoto RGB
Rating : 0
Label :
Creator Tool : Adobe Photoshop CS5 Windows
Format : image/jpeg
Approximate Focus Distance : 4294967295
Image Number : 9496
Lens : 17.0-70.0 mm f/2.8-4.0
Date Created : 2012:03:21 17:16:57.005+01:00
Color Mode : RGB
ICC Profile Name : ProPhoto RGB
Raw File Name : _BEO9375.NEF
Version : 6.4.1
Process Version : 5.7
Color Temperature : 5300
Tint : +19
Exposure : -1.16
Shadows : 5
Brightness : +50
Luminance Smoothing : 0
Color Noise Reduction : 25
Chromatic Aberration R : 0
Chromatic Aberration B : 0
Vignette Amount : 0
Shadow Tint : 0
Red Hue : 0
Red Saturation : 0
Green Hue : 0
Green Saturation : 0
Blue Hue : 0
Blue Saturation : 0
Fill Light : 0
Vibrance : 0
Highlight Recovery : 0
Clarity : +100
Defringe : 0
Hue Adjustment Red : 0
Hue Adjustment Orange : +5
Hue Adjustment Yellow : 0
Hue Adjustment Green : +36
Hue Adjustment Aqua : 0
Hue Adjustment Blue : +10
Hue Adjustment Purple : 0
Hue Adjustment Magenta : 0
Saturation Adjustment Red : 0
Saturation Adjustment Orange : -51
Saturation Adjustment Yellow : 0
Saturation Adjustment Green : +68
Saturation Adjustment Aqua : 0
Saturation Adjustment Blue : +18
Saturation Adjustment Purple : 0
Saturation Adjustment Magenta : 0
Luminance Adjustment Red : 0
Luminance Adjustment Orange : +46
Luminance Adjustment Yellow : 0
Luminance Adjustment Green : +46
Luminance Adjustment Aqua : 0
Luminance Adjustment Blue : -57
Luminance Adjustment Purple : 0
Luminance Adjustment Magenta : 0
Split Toning Shadow Hue : 0
Split Toning Shadow Saturation : 0
Split Toning Highlight Hue : 0
Split Toning Highlight Saturation : 0
Split Toning Balance : 0
Parametric Shadows : 0
Parametric Darks : 0
Parametric Lights : -3
Parametric Highlights : +79
Parametric Shadow Split : 25
Parametric Midtone Split : 50
Parametric Highlight Split : 75
Sharpen Radius : +1.0
Sharpen Detail : 25
Sharpen Edge Masking : 0
Post Crop Vignette Amount : -3
Post Crop Vignette Midpoint : 50
Post Crop Vignette Feather : 50
Post Crop Vignette Roundness : 0
Post Crop Vignette Style : Highlight Priority
Post Crop Vignette Highlight Contrast : 0
Grain Amount : 0
Color Noise Reduction Detail : 50
Lens Profile Enable : 0
Lens Manual Distortion Amount : 0
Perspective Vertical : 0
Perspective Horizontal : 0
Perspective Rotate : 0.0
Perspective Scale : 100
Convert To Grayscale : False
Tone Curve Name : Medium Contrast
Camera Profile : Adobe Standard
Lens Profile Setup : LensDefaults
Has Settings : True
Crop Top : 0
Crop Left : 0
Crop Bottom : 1
Crop Right : 1
Crop Angle : 0
Crop Constrain To Warp : 0
Has Crop : True
Already Applied : True
Rights : Bjorn Olsson
Creator : Bjorn Olsson, bjornsphoto@gmail.com
Tone Curve : 0, 0, 32, 22, 64, 56, 128, 128, 192, 196, 255, 255
Image Width : 300
Image Height : 199
Bits Per Sample : 8
Color Components : 3
Aperture : 16.0
Image Size : 300x199
Megapixels : 0.060
Scale Factor To 35 mm Equivalent : 1.5
Shutter Speed : 1/60
Create Date : 2012:03:21 17:16:57.50
Date/Time Original : 2012:03:21 17:16:57.50
Modify Date : 2012:03:21 20:04:11.50
Circle Of Confusion : 0.020 mm
Depth Of Field : inf (0.88 m - inf)
Field Of View : 71.5 deg
Focal Length : 17.0 mm (35 mm equivalent: 25.0 mm)
Hyperfocal Distance : 0.88 m
Light Value : 11.9
Lens ID : Sigma 17-70mm F2.8-4 DC Macro OS HSM