Uber Exif Photo
By-line : Gilles Sanchez
By-line Title : Photographer
Copyright Notice : (C)2011 Gilles Sanchez, all rights reserved
Make : NIKON CORPORATION
Camera Model Name : NIKON D300S
Software : Adobe Photoshop Lightroom 4.0 (Windows)
Modify Date : 2012:04:13 00:27:13
Artist : Gilles Sanchez
Copyright : (C)2011 Gilles Sanchez, all rights reserved
Exposure Time : 1/60
F Number : 4.8
Exposure Program : Shutter speed priority AE
ISO : 100
Date/Time Original : 2011:10:28 21:45:06
Create Date : 2011:10:28 21:45:06
Shutter Speed Value : 1/60
Aperture Value : 4.8
Exposure Compensation : 0
Max Aperture Value : 4.8
Subject Distance : 6.31 m
Metering Mode : Spot
Light Source : Cloudy
Flash : No Flash
Focal Length : 52.0 mm
User Comment : Gilles Sanchez
Sensing Method : One-chip color area
Scene Type : Directly photographed
CFA Pattern : [Red,Green][Green,Blue]
Custom Rendered : Normal
Exposure Mode : Auto
White Balance : Manual
Digital Zoom Ratio : 1
Focal Length In 35mm Format : 78 mm
Scene Capture Type : Standard
Gain Control : None
Contrast : Normal
Saturation : Normal
Sharpness : Hard
Subject Distance Range : Unknown
Serial Number : 6087821
Lens Info : 24-120mm f/3.5-5.6
Lens Model : 24.0-120.0 mm f/3.5-5.6
Profile Description : sRGB IEC61966-2.1
Format : image/jpeg
Authors Position : Photographer
Source : Gilles Sanchez
Date Created : 2011:10:28 21:45:06.67
Rating Percent : 0
Creator Tool : Adobe Photoshop Lightroom 4.0 (Windows)
Lens : 24.0-120.0 mm f/3.5-5.6
Image Number : 5117
Approximate Focus Distance : 6.31
Version : 7.0
Process Version : 6.7
Color Temperature : 5650
Tint : -2
Exposure : 0.00
Shadows : 5
Brightness : +50
Luminance Smoothing : 0
Color Noise Reduction : 25
Vignette Amount : 0
Shadow Tint : 0
Red Hue : 0
Red Saturation : 0
Green Hue : 0
Green Saturation : 0
Blue Hue : 0
Blue Saturation : 0
Fill Light : 0
Vibrance : 0
Highlight Recovery : 0
Clarity : 0
Defringe : 0
Hue Adjustment Red : 0
Hue Adjustment Orange : 0
Hue Adjustment Yellow : 0
Hue Adjustment Green : 0
Hue Adjustment Aqua : 0
Hue Adjustment Blue : 0
Hue Adjustment Purple : 0
Hue Adjustment Magenta : 0
Saturation Adjustment Red : 0
Saturation Adjustment Orange : 0
Saturation Adjustment Yellow : 0
Saturation Adjustment Green : 0
Saturation Adjustment Aqua : 0
Saturation Adjustment Blue : 0
Saturation Adjustment Purple : 0
Saturation Adjustment Magenta : 0
Luminance Adjustment Red : 0
Luminance Adjustment Orange : 0
Luminance Adjustment Yellow : 0
Luminance Adjustment Green : 0
Luminance Adjustment Aqua : 0
Luminance Adjustment Blue : 0
Luminance Adjustment Purple : 0
Luminance Adjustment Magenta : 0
Split Toning Shadow Hue : 0
Split Toning Shadow Saturation : 0
Split Toning Highlight Hue : 0
Split Toning Highlight Saturation : 0
Split Toning Balance : 0
Parametric Shadows : 0
Parametric Darks : 0
Parametric Lights : 0
Parametric Highlights : 0
Parametric Shadow Split : 25
Parametric Midtone Split : 50
Parametric Highlight Split : 75
Sharpen Radius : +1.0
Sharpen Detail : 25
Sharpen Edge Masking : 0
Post Crop Vignette Amount : 0
Grain Amount : 0
Color Noise Reduction Detail : 50
Lens Profile Enable : 1
Lens Manual Distortion Amount : 0
Perspective Vertical : 0
Perspective Horizontal : 0
Perspective Rotate : 0.0
Perspective Scale : 100
Auto Lateral CA : 1
Exposure 2012 : 0.00
Contrast 2012 : +20
Highlights 2012 : -34
Shadows 2012 : -2
Whites 2012 : 0
Blacks 2012 : -42
Clarity 2012 : -100
Convert To Grayscale : False
Tone Curve Name : Linear
Tone Curve Name 2012 : Linear
Camera Profile : Camera Standard v4
Lens Profile Setup : Custom
Lens Profile Name : Adobe (Nikon AF-S VR Zoom-Nikkor 70-200mm f/2.8G IF-ED)
Lens Profile Filename : NIKON D3X (Nikon FX 70-200mm f2.8 G IF ED) - RAW.lcp
Lens Profile Distortion Scale : 100
Lens Profile Chromatic Aberration Scale : 100
Lens Profile Vignetting Scale : 100
Has Settings : True
Crop Top : 0.008345
Crop Left : 0
Crop Bottom : 1
Crop Right : 0.96488
Crop Angle : 0
Crop Constrain To Warp : 0
Crop Width : 1150
Crop Height : 785
Crop Unit : pixels
Has Crop : True
Already Applied : True
Creator : Gilles Sanchez
Rights : (C)2011 Gilles Sanchez, all rights reserved
Creator City : Brno
Usage Terms : For consideration only, no reproduction without prior permission
Tone Curve : 0, 0, 255, 255
Tone Curve Red : 0, 0, 255, 255
Tone Curve Green : 0, 0, 255, 255
Tone Curve Blue : 0, 0, 255, 255
Tone Curve PV2012 : 0, 0, 255, 255
Tone Curve PV2012 Red : 0, 0, 255, 255
Tone Curve PV2012 Green : 0, 0, 255, 255
Tone Curve PV2012 Blue : 0, 0, 255, 255
Paint Correction What : Correction
Paint Correction Amount : 1.000000
Paint Correction Active : true
Paint Correction Saturation : 0.250000
Paint Correction Sharpness : 0.000000
Paint Correction Brightness : 0.000000
Paint Correction Toning Hue : 0.000000
Paint Correction Toning Saturation : 0.000000
Paint Correction Exposure 2012 : 0.000000
Paint Correction Contrast 2012 : 0.000000
Paint Correction Highlights 2012 : 0.000000
Paint Correction Shadows 2012 : 0.000000
Paint Correction Clarity 2012 : 0.000000
Paint Correction Luminance Noise : 0.000000
Paint Correction Moire : 0.000000
Paint Correction Temperature : 0.000000
Paint Correction Tint : 0.000000
Paint Correction Mask What : Mask/Paint
Paint Correction Mask Value : 1.000000
Paint Correction Mask Radius : 0.112273
Paint Correction Mask Flow : 1.000000
Paint Correction Mask Center Weight : 0.000000
Gradient Based Corr What : Correction
Gradient Based Corr Amount : 1.000000
Gradient Based Corr Active : true
Gradient Based Corr Saturation : 0.000000
Gradient Based Corr Sharpness : 0.000000
Gradient Based Corr Brightness : 0.000000
Gradient Based Corr Toning Hue : 0.000000
Gradient Based Corr Toning Saturation : 0.000000
Gradient Based Corr Exposure 2012 : -0.170750
Gradient Based Corr Contrast 2012 : 0.146340
Gradient Based Corr Highlights 2012 : -0.804880
Gradient Based Corr Shadows 2012 : -0.585370
Gradient Based Corr Clarity 2012 : 0.292680
Gradient Based Corr Luminance Noise : 0.341460
Gradient Based Corr Moire : 0.000000
Gradient Based Corr Temperature : 0.000000
Gradient Based Corr Tint : 0.000000
Gradient Based Corr Mask What : Mask/Gradient
Gradient Based Corr Mask Value : 1.000000
Gradient Based Corr Mask Zero X : 0.506579
Gradient Based Corr Mask Zero Y : 0.459095
Gradient Based Corr Mask Full X : 0.466255
Gradient Based Corr Mask Full Y : -0.083970
Image Width : 300
Image Height : 205
Bits Per Sample : 8
Color Components : 3
Aperture : 4.8
Image Size : 300x205
Megapixels : 0.061
Scale Factor To 35 mm Equivalent : 1.5
Shutter Speed : 1/60
Create Date : 2011:10:28 21:45:06.67
Date/Time Original : 2011:10:28 21:45:06.67
Circle Of Confusion : 0.020 mm
Depth Of Field : 2.95 m (5.16 - 8.12 m)
Field Of View : 26.0 deg
Focal Length : 52.0 mm (35 mm equivalent: 78.0 mm)
Hyperfocal Distance : 28.12 m
Light Value : 10.4
Lens ID : AF Zoom-Nikkor 24-120mm f/3.5-5.6D IF