Uber Exif Photo
By-line : Gilles Sanchez
Copyright Notice : Gilles Sanchez
Make : NIKON CORPORATION
Camera Model Name : NIKON D300S
Software : Adobe Photoshop Lightroom 4.0 (Windows)
Modify Date : 2012:04:14 13:51:31
Artist : Gilles Sanchez
Copyright : Gilles Sanchez
Exposure Time : 1.6
F Number : 6.3
Exposure Program : Aperture-priority AE
ISO : 800
Date/Time Original : 2012:04:13 08:47:20
Create Date : 2012:04:13 08:47:20
Shutter Speed Value : 1.6
Aperture Value : 6.3
Exposure Compensation : +1
Max Aperture Value : 3.9
Metering Mode : Center-weighted average
Light Source : Tungsten (Incandescent)
Flash : No Flash
Focal Length : 32.0 mm
User Comment : Gilles Sanchez
Sensing Method : One-chip color area
Scene Type : Directly photographed
CFA Pattern : [Red,Green][Green,Blue]
Custom Rendered : Normal
Exposure Mode : Auto
White Balance : Manual
Digital Zoom Ratio : 1
Focal Length In 35mm Format : 48 mm
Scene Capture Type : Standard
Gain Control : Low gain up
Contrast : Normal
Saturation : Normal
Sharpness : Hard
Subject Distance Range : Unknown
Serial Number : 6087821
Lens Info : 24-120mm f/3.5-5.6
Lens Model : 24.0-120.0 mm f/3.5-5.6
Profile Description : sRGB IEC61966-2.1
Rating Percent : 0
Format : image/jpeg
Creator Tool : Adobe Photoshop Lightroom 4.0 (Windows)
Lens : 24.0-120.0 mm f/3.5-5.6
Image Number : 6981
Approximate Focus Distance : 6.31
Date Created : 2012:04:13 08:47:20.30
Version : 7.0
Process Version : 6.7
Color Temperature : 2900
Tint : -2
Exposure : 0.00
Shadows : 5
Brightness : +50
Luminance Smoothing : 30
Color Noise Reduction : 25
Vignette Amount : 0
Shadow Tint : 0
Red Hue : 0
Red Saturation : 0
Green Hue : 0
Green Saturation : 0
Blue Hue : 0
Blue Saturation : 0
Fill Light : 0
Vibrance : 0
Highlight Recovery : 0
Clarity : 0
Defringe : 0
Hue Adjustment Red : 0
Hue Adjustment Orange : 0
Hue Adjustment Yellow : 0
Hue Adjustment Green : 0
Hue Adjustment Aqua : 0
Hue Adjustment Blue : 0
Hue Adjustment Purple : 0
Hue Adjustment Magenta : 0
Saturation Adjustment Red : 0
Saturation Adjustment Orange : 0
Saturation Adjustment Yellow : 0
Saturation Adjustment Green : 0
Saturation Adjustment Aqua : 0
Saturation Adjustment Blue : 0
Saturation Adjustment Purple : 0
Saturation Adjustment Magenta : 0
Luminance Adjustment Red : 0
Luminance Adjustment Orange : 0
Luminance Adjustment Yellow : 0
Luminance Adjustment Green : 0
Luminance Adjustment Aqua : 0
Luminance Adjustment Blue : 0
Luminance Adjustment Purple : 0
Luminance Adjustment Magenta : 0
Split Toning Shadow Hue : 0
Split Toning Shadow Saturation : 0
Split Toning Highlight Hue : 0
Split Toning Highlight Saturation : 0
Split Toning Balance : 0
Parametric Shadows : 0
Parametric Darks : 0
Parametric Lights : 0
Parametric Highlights : 0
Parametric Shadow Split : 25
Parametric Midtone Split : 50
Parametric Highlight Split : 75
Sharpen Radius : +1.0
Sharpen Detail : 25
Sharpen Edge Masking : 0
Post Crop Vignette Amount : 0
Grain Amount : 0
Luminance Noise Reduction Detail : 50
Color Noise Reduction Detail : 50
Luminance Noise Reduction Contrast : 0
Lens Profile Enable : 1
Lens Manual Distortion Amount : 0
Perspective Vertical : 0
Perspective Horizontal : 0
Perspective Rotate : 0.0
Perspective Scale : 100
Auto Lateral CA : 1
Exposure 2012 : -0.43
Contrast 2012 : +32
Highlights 2012 : -100
Shadows 2012 : +66
Whites 2012 : +46
Blacks 2012 : 0
Clarity 2012 : +76
Convert To Grayscale : False
Tone Curve Name : Linear
Tone Curve Name 2012 : Linear
Camera Profile : Camera Standard v4
Lens Profile Setup : Custom
Lens Profile Name : Adobe (Nikon AF-S VR Zoom-Nikkor 70-200mm f/2.8G IF-ED)
Lens Profile Filename : NIKON D3X (Nikon FX 70-200mm f2.8 G IF ED) - RAW.lcp
Lens Profile Distortion Scale : 100
Lens Profile Chromatic Aberration Scale : 100
Lens Profile Vignetting Scale : 100
Has Settings : True
Crop Top : 0
Crop Left : 0.014837
Crop Bottom : 0.922121
Crop Right : 0.985886
Crop Angle : 0.799983
Crop Constrain To Warp : 0
Crop Width : 1150
Crop Height : 703
Crop Unit : pixels
Has Crop : True
Already Applied : True
Creator : Gilles Sanchez
Rights : Gilles Sanchez
Tone Curve : 0, 0, 255, 255
Tone Curve Red : 0, 0, 255, 255
Tone Curve Green : 0, 0, 255, 255
Tone Curve Blue : 0, 0, 255, 255
Tone Curve PV2012 : 0, 0, 255, 255
Tone Curve PV2012 Red : 0, 0, 255, 255
Tone Curve PV2012 Green : 0, 0, 255, 255
Tone Curve PV2012 Blue : 0, 0, 255, 255
Image Width : 300
Image Height : 183
Bits Per Sample : 8
Color Components : 3
Aperture : 6.3
Image Size : 300x183
Megapixels : 0.055
Scale Factor To 35 mm Equivalent : 1.5
Shutter Speed : 1.6
Create Date : 2012:04:13 08:47:20.30
Date/Time Original : 2012:04:13 08:47:20.30
Circle Of Confusion : 0.020 mm
Depth Of Field : 24.32 m (3.56 - 27.88 m)
Field Of View : 41.1 deg
Focal Length : 32.0 mm (35 mm equivalent: 48.0 mm)
Hyperfocal Distance : 8.11 m
Light Value : 1.6
Lens ID : AF Zoom-Nikkor 24-120mm f/3.5-5.6D IF