Uber Exif Photo
By-line : ANDREW PETTY
Copyright Notice : ANDREW PETTY
Make : NIKON CORPORATION
Camera Model Name : NIKON D800
Software : Adobe Photoshop Lightroom 4.2 (Windows)
Modify Date : 2012:10:22 17:41:31
Artist : ANDREW PETTY
Copyright : ANDREW PETTY
Exposure Time : 1/125
F Number : 1.4
Exposure Program : Manual
ISO : 1000
Sensitivity Type : Recommended Exposure Index
Date/Time Original : 2012:10:20 15:25:20
Create Date : 2012:10:20 15:25:20
Shutter Speed Value : 1/125
Aperture Value : 1.4
Exposure Compensation : 0
Max Aperture Value : 1.4
Metering Mode : Multi-segment
Light Source : Unknown
Flash : Off, Did not fire
Focal Length : 50.0 mm
Sensing Method : One-chip color area
Scene Type : Directly photographed
CFA Pattern : [Red,Green][Green,Blue]
Custom Rendered : Normal
Exposure Mode : Manual
White Balance : Auto
Digital Zoom Ratio : 1
Focal Length In 35mm Format : 50 mm
Scene Capture Type : Standard
Gain Control : High gain up
Contrast : Normal
Saturation : Normal
Sharpness : Normal
Subject Distance Range : Unknown
Serial Number : 3016383
Lens Info : 50mm f/1.4
Lens Model : 50.0 mm f/1.4
Profile Description : sRGB IEC61966-2.1
Format : image/jpeg
Creator Tool : Adobe Photoshop Lightroom 4.2 (Windows)
Lens : 50.0 mm f/1.4
Image Number : 16587
Approximate Focus Distance : 1.33
Date Created : 2012:10:20 15:25:20.90
Version : 7.2
Process Version : 6.7
Color Temperature : 3150
Tint : +2
Luminance Smoothing : 0
Color Noise Reduction : 25
Vignette Amount : 0
Shadow Tint : 0
Red Hue : 0
Red Saturation : 0
Green Hue : 0
Green Saturation : 0
Blue Hue : 0
Blue Saturation : 0
Vibrance : 0
Hue Adjustment Red : 0
Hue Adjustment Orange : 0
Hue Adjustment Yellow : 0
Hue Adjustment Green : 0
Hue Adjustment Aqua : 0
Hue Adjustment Blue : 0
Hue Adjustment Purple : 0
Hue Adjustment Magenta : 0
Saturation Adjustment Red : 0
Saturation Adjustment Orange : 0
Saturation Adjustment Yellow : 0
Saturation Adjustment Green : 0
Saturation Adjustment Aqua : 0
Saturation Adjustment Blue : 0
Saturation Adjustment Purple : 0
Saturation Adjustment Magenta : 0
Luminance Adjustment Red : 0
Luminance Adjustment Orange : 0
Luminance Adjustment Yellow : 0
Luminance Adjustment Green : 0
Luminance Adjustment Aqua : 0
Luminance Adjustment Blue : 0
Luminance Adjustment Purple : 0
Luminance Adjustment Magenta : 0
Split Toning Shadow Hue : 0
Split Toning Shadow Saturation : 0
Split Toning Highlight Hue : 0
Split Toning Highlight Saturation : 0
Split Toning Balance : 0
Parametric Shadows : 0
Parametric Darks : 0
Parametric Lights : 0
Parametric Highlights : 0
Parametric Shadow Split : 25
Parametric Midtone Split : 50
Parametric Highlight Split : 75
Sharpen Radius : +1.0
Sharpen Detail : 25
Sharpen Edge Masking : 0
Post Crop Vignette Amount : 0
Grain Amount : 0
Color Noise Reduction Detail : 50
Lens Profile Enable : 0
Lens Manual Distortion Amount : 0
Perspective Vertical : 0
Perspective Horizontal : 0
Perspective Rotate : 0.0
Perspective Scale : 100
Auto Lateral CA : 0
Exposure 2012 : 0.00
Contrast 2012 : 0
Highlights 2012 : -100
Shadows 2012 : 0
Whites 2012 : 0
Blacks 2012 : 0
Clarity 2012 : 0
Defringe Purple Amount : 0
Defringe Purple Hue Lo : 30
Defringe Purple Hue Hi : 70
Defringe Green Amount : 0
Defringe Green Hue Lo : 40
Defringe Green Hue Hi : 60
Convert To Grayscale : False
Tone Curve Name 2012 : Linear
Camera Profile : Adobe Standard
Lens Profile Setup : LensDefaults
Has Settings : True
Crop Top : 0.000019
Crop Left : 0
Crop Bottom : 0.904592
Crop Right : 0.877753
Crop Angle : -0.000846
Crop Constrain To Warp : 0
Crop Width : 1600
Crop Height : 1100
Crop Unit : pixels
Has Crop : True
Already Applied : True
Creator : ANDREW PETTY
Rights : ANDREW PETTY
Tone Curve PV2012 : 0, 0, 255, 255
Tone Curve PV2012 Red : 0, 0, 255, 255
Tone Curve PV2012 Green : 0, 0, 255, 255
Tone Curve PV2012 Blue : 0, 0, 255, 255
Image Width : 300
Image Height : 206
Bits Per Sample : 8
Color Components : 3
Aperture : 1.4
Image Size : 300x206
Megapixels : 0.062
Scale Factor To 35 mm Equivalent : 1.0
Shutter Speed : 1/125
Create Date : 2012:10:20 15:25:20.90
Date/Time Original : 2012:10:20 15:25:20.90
Circle Of Confusion : 0.030 mm
Depth Of Field : 0.06 m (1.30 - 1.36 m)
Field Of View : 39.6 deg
Focal Length : 50.0 mm (35 mm equivalent: 50.0 mm)
Hyperfocal Distance : 59.43 m
Light Value : 4.6
Lens ID : AF-S Nikkor 50mm f/1.4G