Uber Exif Photo
Photometric Interpretation : RGB
Make : NIKON CORPORATION
Camera Model Name : NIKON D600
Orientation : Horizontal (normal)
Samples Per Pixel : 3
Software : Adobe Photoshop CS6 (Macintosh)
Modify Date : 2015:07:14 21:12:03
Exposure Time : 1/400
F Number : 2.0
Exposure Program : Aperture-priority AE
ISO : 100
Sensitivity Type : Recommended Exposure Index
Date/Time Original : 2015:04:18 11:03:41
Create Date : 2015:04:18 11:03:41
Shutter Speed Value : 1/400
Aperture Value : 2.0
Exposure Compensation : -1/3
Max Aperture Value : 1.0
Metering Mode : Center-weighted average
Light Source : Unknown
Flash : Off, Did not fire
Focal Length : 100.0 mm
Color Space : Uncalibrated
Exif Image Width : 1800
Exif Image Height : 1223
Sensing Method : One-chip color area
Scene Type : Directly photographed
CFA Pattern : [Red,Green][Green,Blue]
Custom Rendered : Normal
Exposure Mode : Auto
White Balance : Auto
Digital Zoom Ratio : 1
Focal Length In 35mm Format : 100 mm
Scene Capture Type : Landscape
Gain Control : None
Contrast : Normal
Saturation : Normal
Sharpness : Hard
Subject Distance Range : Unknown
Serial Number : 3072317
Lens Info : 0mm f/0
Lens Model : 0.0 mm f/0.0
Profile Description : Adobe RGB (1998)
Creator Tool : Adobe Photoshop CS6 (Macintosh)
Rating : 0
Lens : 0.0 mm f/0.0
Image Number : 38732
Date Created : 2015:04:18 11:03:41.008
Color Mode : RGB
ICC Profile Name : Adobe RGB (1998)
Format : image/jpeg
Raw File Name : _DSC8556.NEF
Version : 8.3
Process Version : 6.7
Auto White Version : 134348800
Color Temperature : 4150
Tint : +19
Luminance Smoothing : 0
Color Noise Reduction : 25
Vignette Amount : 0
Shadow Tint : 0
Red Hue : 0
Red Saturation : 0
Green Hue : 0
Green Saturation : 0
Blue Hue : 0
Blue Saturation : 0
Vibrance : 0
Hue Adjustment Red : 0
Hue Adjustment Orange : 0
Hue Adjustment Yellow : 0
Hue Adjustment Green : 0
Hue Adjustment Aqua : 0
Hue Adjustment Blue : 0
Hue Adjustment Purple : 0
Hue Adjustment Magenta : 0
Saturation Adjustment Red : 0
Saturation Adjustment Orange : 0
Saturation Adjustment Yellow : 0
Saturation Adjustment Green : 0
Saturation Adjustment Aqua : 0
Saturation Adjustment Blue : 0
Saturation Adjustment Purple : 0
Saturation Adjustment Magenta : 0
Luminance Adjustment Red : 0
Luminance Adjustment Orange : 0
Luminance Adjustment Yellow : 0
Luminance Adjustment Green : 0
Luminance Adjustment Aqua : 0
Luminance Adjustment Blue : 0
Luminance Adjustment Purple : 0
Luminance Adjustment Magenta : 0
Split Toning Shadow Hue : 0
Split Toning Shadow Saturation : 0
Split Toning Highlight Hue : 0
Split Toning Highlight Saturation : 0
Split Toning Balance : 0
Parametric Shadows : 0
Parametric Darks : 0
Parametric Lights : 0
Parametric Highlights : 0
Parametric Shadow Split : 25
Parametric Midtone Split : 50
Parametric Highlight Split : 75
Sharpen Radius : +1.0
Sharpen Detail : 25
Sharpen Edge Masking : 0
Post Crop Vignette Amount : 0
Grain Amount : 0
Color Noise Reduction Detail : 50
Color Noise Reduction Smoothness : 50
Lens Profile Enable : 0
Lens Manual Distortion Amount : 0
Perspective Vertical : 0
Perspective Horizontal : 0
Perspective Rotate : 0.0
Perspective Scale : 100
Perspective Aspect : 0
Perspective Upright : Off
Auto Lateral CA : 0
Exposure 2012 : +0.75
Contrast 2012 : +20
Highlights 2012 : -100
Shadows 2012 : +40
Whites 2012 : +40
Blacks 2012 : -20
Clarity 2012 : 0
Defringe Purple Amount : 0
Defringe Purple Hue Lo : 30
Defringe Purple Hue Hi : 70
Defringe Green Amount : 0
Defringe Green Hue Lo : 40
Defringe Green Hue Hi : 60
Convert To Grayscale : False
Tone Curve Name 2012 : Linear
Camera Profile : Adobe Standard
Lens Profile Setup : LensDefaults
Has Settings : True
Has Crop : False
Already Applied : True
Tone Curve PV2012 : 0, 0, 255, 255
Tone Curve PV2012 Red : 0, 0, 255, 255
Tone Curve PV2012 Green : 0, 0, 255, 255
Tone Curve PV2012 Blue : 0, 0, 255, 255
Image Width : 300
Image Height : 204
Bits Per Sample : 8
Color Components : 3
Aperture : 2.0
Image Size : 300x204
Megapixels : 0.061
Scale Factor To 35 mm Equivalent : 1.0
Shutter Speed : 1/400
Create Date : 2015:04:18 11:03:41.80
Date/Time Original : 2015:04:18 11:03:41.80
Modify Date : 2015:07:14 21:12:03.80
Circle Of Confusion : 0.030 mm
Field Of View : 20.4 deg
Focal Length : 100.0 mm (35 mm equivalent: 100.0 mm)
Hyperfocal Distance : 166.41 m
Light Value : 10.6
Lens ID : 0.0mm f/0.0