Uber Exif Photo
By-line : PIM NAUTA
Copyright Notice : PIM NAUTA
Make : NIKON CORPORATION
Camera Model Name : NIKON D3
Orientation : Horizontal (normal)
Software : Capture NX 2.4.6 M
Modify Date : 2016:01:07 03:18:08
Artist : PIM NAUTA
Copyright : PIM NAUTA
Exposure Time : 1/250
F Number : 5.0
Exposure Program : Manual
ISO : 320
Date/Time Original : 2013:10:24 16:27:17
Create Date : 2013:10:24 16:27:17
Shutter Speed Value : 3.4
Aperture Value : 5.0
Exposure Compensation : -1/3
Max Aperture Value : 2.8
Metering Mode : Spot
Light Source : Unknown
Flash : On, Return detected
Focal Length : 300.0 mm
Maker Note Version : 2.11
Image Data Size : 493974
Nikon Capture Version : Capture NX 2.4.6 M
IFD0 Offset : 1210
Preview IFD Offset : 1110
NEF Bit Depth : n/a (JPEG)
Color Space : Uncalibrated
Exif Image Width : 790
Exif Image Height : 1000
Sensing Method : One-chip color area
Scene Type : Directly photographed
Custom Rendered : Normal
Exposure Mode : Manual
White Balance : Auto
Digital Zoom Ratio : 1
Focal Length In 35mm Format : 300 mm
Scene Capture Type : Standard
Gain Control : None
Contrast : Normal
Saturation : Normal
Sharpness : Hard
Subject Distance Range : Unknown
Serial Number : 2003163
Lens Info : 300mm f/2.8
Lens Model : 300.0 mm f/2.8
Profile Description : Adobe RGB (1998)
Urgency : 9 (user-defined priority)
Date Created : 2013:10:24 16:27:17.082
Color Mode : RGB
ICC Profile Name : Adobe RGB (1998)
Label : Roze
Creator Tool : Capture NX 2.4.6 M
Rating : 0
Rating Percent : 0
Format : image/jpeg
Lens : 300.0 mm f/2.8
Image Number : 57539
Approximate Focus Distance : 5.96
Raw File Name : _PWN6786.nef
Version : 9.3
Process Version : 6.7
Auto White Version : 134348800
Color Temperature : 5350
Tint : 0
Luminance Smoothing : 0
Color Noise Reduction : 25
Vignette Amount : 0
Shadow Tint : 0
Red Hue : 0
Red Saturation : 0
Green Hue : 0
Green Saturation : 0
Blue Hue : 0
Blue Saturation : 0
Vibrance : +20
Hue Adjustment Red : 0
Hue Adjustment Orange : 0
Hue Adjustment Yellow : 0
Hue Adjustment Green : 0
Hue Adjustment Aqua : 0
Hue Adjustment Blue : 0
Hue Adjustment Purple : 0
Hue Adjustment Magenta : 0
Saturation Adjustment Red : 0
Saturation Adjustment Orange : 0
Saturation Adjustment Yellow : 0
Saturation Adjustment Green : 0
Saturation Adjustment Aqua : 0
Saturation Adjustment Blue : 0
Saturation Adjustment Purple : 0
Saturation Adjustment Magenta : 0
Luminance Adjustment Red : 0
Luminance Adjustment Orange : 0
Luminance Adjustment Yellow : 0
Luminance Adjustment Green : 0
Luminance Adjustment Aqua : 0
Luminance Adjustment Blue : 0
Luminance Adjustment Purple : 0
Luminance Adjustment Magenta : 0
Split Toning Shadow Hue : 0
Split Toning Shadow Saturation : 0
Split Toning Highlight Hue : 0
Split Toning Highlight Saturation : 0
Split Toning Balance : 0
Parametric Shadows : 0
Parametric Darks : 0
Parametric Lights : 0
Parametric Highlights : 0
Parametric Shadow Split : 25
Parametric Midtone Split : 50
Parametric Highlight Split : 75
Sharpen Radius : +1.0
Sharpen Detail : 25
Sharpen Edge Masking : 0
Post Crop Vignette Amount : 0
Grain Amount : 0
Color Noise Reduction Detail : 50
Color Noise Reduction Smoothness : 50
Lens Profile Enable : 0
Lens Manual Distortion Amount : 0
Perspective Vertical : 0
Perspective Horizontal : 0
Perspective Rotate : 0.0
Perspective Scale : 100
Perspective Aspect : 0
Perspective Upright : Off
Auto Lateral CA : 0
Exposure 2012 : +0.95
Contrast 2012 : +18
Highlights 2012 : +51
Shadows 2012 : +28
Whites 2012 : -32
Blacks 2012 : -23
Clarity 2012 : +27
Defringe Purple Amount : 0
Defringe Purple Hue Lo : 30
Defringe Purple Hue Hi : 70
Defringe Green Amount : 0
Defringe Green Hue Lo : 40
Defringe Green Hue Hi : 60
Dehaze : 0
Tone Map Strength : 0
Convert To Grayscale : False
Tone Curve Name : Medium Contrast
Tone Curve Name 2012 : Linear
Camera Profile : Nikon D3
Lens Profile Setup : LensDefaults
Has Settings : True
Has Crop : False
Already Applied : True
Creator : PIM NAUTA
Rights : PIM NAUTA
Tone Curve : 0, 0, 32, 22, 64, 56, 128, 128, 192, 196, 255, 255
Tone Curve Red : 0, 0, 255, 255
Tone Curve Green : 0, 0, 255, 255
Tone Curve Blue : 0, 0, 255, 255
Tone Curve PV2012 : 0, 0, 255, 255
Tone Curve PV2012 Red : 0, 0, 255, 255
Tone Curve PV2012 Green : 0, 0, 255, 255
Tone Curve PV2012 Blue : 0, 0, 255, 255
Image Width : 300
Image Height : 380
Bits Per Sample : 8
Color Components : 3
Aperture : 5.0
Image Size : 300x380
Megapixels : 0.114
Scale Factor To 35 mm Equivalent : 1.0
Shutter Speed : 1/250
Create Date : 2013:10:24 16:27:17.82
Date/Time Original : 2013:10:24 16:27:17.82
Modify Date : 2016:01:07 03:18:08.82
Circle Of Confusion : 0.030 mm
Depth Of Field : 0.11 m (5.90 - 6.02 m)
Field Of View : 6.9 deg
Focal Length : 300.0 mm (35 mm equivalent: 300.0 mm)
Hyperfocal Distance : 599.08 m
Light Value : 10.9
Lens ID : AF-S Nikkor 300mm f/2.8G IF-ED VR II