Uber Exif Photo
Make : NIKON CORPORATION
Camera Model Name : NIKON D3S
Software : Ver.1.01
Modify Date : 2010:10:27 18:08:17
Exposure Time : 1/800
F Number : 2.2
Exposure Program : Aperture-priority AE
ISO : 200
Sensitivity Type : Unknown
Date/Time Original : 2010:10:27 12:52:31
Create Date : 2010:10:27 12:52:31
Shutter Speed Value : 1/800
Aperture Value : 2.2
Exposure Compensation : 0
Max Aperture Value : 1.4
Subject Distance : 1.33 m
Metering Mode : Multi-segment
Light Source : Unknown
Focal Length : 24.0 mm
Sensing Method : One-chip color area
Scene Type : Directly photographed
CFA Pattern : [Red,Green][Green,Blue]
Custom Rendered : Normal
Exposure Mode : Auto
White Balance : Auto
Digital Zoom Ratio : 1
Focal Length In 35mm Format : 24 mm
Scene Capture Type : Standard
Gain Control : None
Contrast : Normal
Saturation : Normal
Sharpness : Normal
Subject Distance Range : Unknown
Serial Number : 2028950
Lens Info : 24mm f/1.4
Lens Model : 24.0 mm f/1.4
Date/Time Digitized : 2010:10:27 12:52:31.90-07:00
Exif Image Width : 665
Exif Image Height : 1000
Creator Tool : Adobe Photoshop Lightroom
Lens : 24.0 mm f/1.4
Image Number : 791
Approximate Focus Distance : 1.33
Version : 6.2
Process Version : 5.7
Color Temperature : 5000
Tint : +36
Exposure : -0.55
Shadows : 15
Brightness : +114
Luminance Smoothing : 0
Color Noise Reduction : 25
Chromatic Aberration R : 0
Chromatic Aberration B : 0
Vignette Amount : 0
Shadow Tint : 0
Red Hue : 0
Red Saturation : 0
Green Hue : 0
Green Saturation : 0
Blue Hue : 0
Blue Saturation : 0
Fill Light : 15
Highlight Recovery : 79
Clarity : +42
Defringe : 0
Gray Mixer Red : -14
Gray Mixer Orange : -17
Gray Mixer Yellow : -18
Gray Mixer Green : -18
Gray Mixer Aqua : -8
Gray Mixer Blue : +9
Gray Mixer Purple : +8
Gray Mixer Magenta : -5
Split Toning Shadow Hue : 0
Split Toning Shadow Saturation : 0
Split Toning Highlight Hue : 0
Split Toning Highlight Saturation : 0
Split Toning Balance : 0
Parametric Shadows : 0
Parametric Darks : 0
Parametric Lights : 0
Parametric Highlights : 0
Parametric Shadow Split : 25
Parametric Midtone Split : 50
Parametric Highlight Split : 75
Sharpen Radius : +1.0
Sharpen Detail : 25
Sharpen Edge Masking : 0
Post Crop Vignette Amount : -20
Post Crop Vignette Midpoint : 50
Post Crop Vignette Feather : 50
Post Crop Vignette Roundness : 0
Post Crop Vignette Style : Highlight Priority
Post Crop Vignette Highlight Contrast : 0
Grain Amount : 29
Grain Size : 28
Grain Frequency : 49
Color Noise Reduction Detail : 50
Lens Profile Enable : 0
Lens Manual Distortion Amount : 0
Perspective Vertical : 0
Perspective Horizontal : 0
Perspective Rotate : 0.0
Perspective Scale : 100
Convert To Grayscale : True
Tone Curve Name : Medium Contrast
Camera Profile : Adobe Standard
Lens Profile Setup : LensDefaults
Has Settings : True
Has Crop : False
Already Applied : True
Flash Fired : False
Flash Return : No return detection
Flash Mode : Unknown
Flash Function : False
Flash Red Eye Mode : False
Tone Curve : 0, 0, 32, 22, 64, 56, 128, 128, 192, 196, 255, 255
Paint Correction What : Correction
Paint Correction Amount : 1.000000
Paint Correction Active : true
Paint Correction Exposure : 0.254902
Paint Correction Saturation : 0.000000
Paint Correction Contrast : 0.000000
Paint Correction Clarity : 0.000000
Paint Correction Sharpness : 0.000000
Paint Correction Brightness : 0.000000
Paint Correction Toning Hue : 358.000000
Paint Correction Toning Saturation : 0.000000
Paint Correction Mask What : Mask/Paint
Paint Correction Mask Value : 0.875000
Paint Correction Mask Radius : 0.134388
Paint Correction Mask Flow : 0.701544
Paint Correction Mask Center Weight : 0.090059
Image Width : 200
Image Height : 300
Bits Per Sample : 8
Color Components : 1
Aperture : 2.2
Image Size : 200x300
Megapixels : 0.060
Scale Factor To 35 mm Equivalent : 1.0
Shutter Speed : 1/800
Create Date : 2010:10:27 12:52:31.90
Date/Time Original : 2010:10:27 12:52:31.90
Flash : No Flash
Circle Of Confusion : 0.030 mm
Depth Of Field : 0.41 m (1.16 - 1.56 m)
Field Of View : 73.7 deg
Focal Length : 24.0 mm (35 mm equivalent: 24.0 mm)
Hyperfocal Distance : 8.71 m
Light Value : 10.9
Lens ID : AF-S Nikkor 24mm f/1.4G ED