Uber Exif Photo
Make : NIKON CORPORATION
Camera Model Name : NIKON D700
Orientation : Horizontal (normal)
Software : Adobe Photoshop CS5 Macintosh
Modify Date : 2012:02:05 22:29:40
Exposure Time : 0.6
F Number : 7.1
Exposure Program : Aperture-priority AE
ISO : 200
Sensitivity Type : Unknown
Date/Time Original : 2012:02:04 17:46:45
Create Date : 2012:02:04 17:46:45
Shutter Speed Value : 0.6
Aperture Value : 7.1
Exposure Compensation : 0
Max Aperture Value : 2.8
Metering Mode : Center-weighted average
Light Source : Unknown
Flash : No Flash
Focal Length : 21.0 mm
Color Space : sRGB
Exif Image Width : 1044
Exif Image Height : 702
Sensing Method : One-chip color area
Scene Type : Directly photographed
CFA Pattern : [Red,Green][Green,Blue]
Custom Rendered : Normal
Exposure Mode : Auto
White Balance : Manual
Digital Zoom Ratio : 1
Focal Length In 35mm Format : 21 mm
Scene Capture Type : Standard
Gain Control : None
Contrast : Normal
Saturation : Normal
Sharpness : Normal
Subject Distance Range : Unknown
Serial Number : 2205982
Lens Info : 21mm f/2.8
Lens Model : Zeiss Distagon T* 2.8/21 ZF.2
Profile Description : sRGB IEC61966-2.1
Creator Tool : Adobe Photoshop CS5 Macintosh
Rating : 0
Lens : Zeiss Distagon T* 2.8/21 ZF.2
Image Number : 52772
Raw File Name : DSC_8948.NEF
Version : 6.2
Process Version : 5.7
Color Temperature : 5900
Tint : -7
Exposure : 0.00
Shadows : 5
Brightness : +50
Luminance Smoothing : 0
Color Noise Reduction : 25
Chromatic Aberration R : 0
Chromatic Aberration B : 0
Vignette Amount : 0
Shadow Tint : 0
Red Hue : 0
Red Saturation : 0
Green Hue : 0
Green Saturation : 0
Blue Hue : 0
Blue Saturation : 0
Fill Light : 0
Vibrance : 0
Highlight Recovery : 17
Clarity : 0
Defringe : 0
Hue Adjustment Red : 0
Hue Adjustment Orange : 0
Hue Adjustment Yellow : 0
Hue Adjustment Green : 0
Hue Adjustment Aqua : 0
Hue Adjustment Blue : 0
Hue Adjustment Purple : 0
Hue Adjustment Magenta : 0
Saturation Adjustment Red : 0
Saturation Adjustment Orange : 0
Saturation Adjustment Yellow : 0
Saturation Adjustment Green : 0
Saturation Adjustment Aqua : 0
Saturation Adjustment Blue : 0
Saturation Adjustment Purple : 0
Saturation Adjustment Magenta : 0
Luminance Adjustment Red : 0
Luminance Adjustment Orange : 0
Luminance Adjustment Yellow : 0
Luminance Adjustment Green : 0
Luminance Adjustment Aqua : 0
Luminance Adjustment Blue : 0
Luminance Adjustment Purple : 0
Luminance Adjustment Magenta : 0
Split Toning Shadow Hue : 0
Split Toning Shadow Saturation : 0
Split Toning Highlight Hue : 0
Split Toning Highlight Saturation : 0
Split Toning Balance : 0
Parametric Shadows : 0
Parametric Darks : 0
Parametric Lights : 0
Parametric Highlights : 0
Parametric Shadow Split : 25
Parametric Midtone Split : 50
Parametric Highlight Split : 75
Sharpen Radius : +1.0
Sharpen Detail : 25
Sharpen Edge Masking : 0
Post Crop Vignette Amount : 0
Grain Amount : 0
Color Noise Reduction Detail : 50
Lens Profile Enable : 0
Lens Manual Distortion Amount : 0
Perspective Vertical : 0
Perspective Horizontal : 0
Perspective Rotate : 0.0
Perspective Scale : 100
Convert To Grayscale : False
Tone Curve Name : Medium Contrast
Camera Profile : Adobe Standard
Lens Profile Setup : LensDefaults
Has Settings : True
Has Crop : False
Already Applied : True
Sidecar For Extension : NEF
Color Mode : RGB
ICC Profile Name : sRGB IEC61966-2.1
Date Created : 2012:02:04 17:46:45.007
Format : image/jpeg
Tone Curve : 0, 0, 32, 22, 64, 56, 128, 128, 192, 196, 255, 255
Image Width : 300
Image Height : 202
Bits Per Sample : 8
Color Components : 3
Aperture : 7.1
Image Size : 300x202
Megapixels : 0.061
Scale Factor To 35 mm Equivalent : 1.0
Shutter Speed : 0.6
Create Date : 2012:02:04 17:46:45.07
Date/Time Original : 2012:02:04 17:46:45.07
Modify Date : 2012:02:05 22:29:40.07
Circle Of Confusion : 0.030 mm
Field Of View : 81.2 deg
Focal Length : 21.0 mm (35 mm equivalent: 21.0 mm)
Hyperfocal Distance : 2.07 m
Light Value : 5.4